BEGIN:VCALENDAR
VERSION:2.0
PRODID:-//Teatro Gamboa - ECPv6.2.8.2//NONSGML v1.0//EN
CALSCALE:GREGORIAN
METHOD:PUBLISH
X-ORIGINAL-URL:https://teatrogamboa.com.br
X-WR-CALDESC:Eventos para Teatro Gamboa
REFRESH-INTERVAL;VALUE=DURATION:PT1H
X-Robots-Tag:noindex
X-PUBLISHED-TTL:PT1H
BEGIN:VTIMEZONE
TZID:America/Bahia
BEGIN:STANDARD
TZOFFSETFROM:-0300
TZOFFSETTO:-0300
TZNAME:-03
DTSTART:20260101T000000
END:STANDARD
END:VTIMEZONE
BEGIN:VEVENT
DTSTART;TZID=America/Bahia:20260401T190000
DTEND;TZID=America/Bahia:20260614T200000
DTSTAMP:20260425T092327
CREATED:20260330T123633Z
LAST-MODIFIED:20260401T185710Z
UID:10000592-1775070000-1781467200@teatrogamboa.com.br
SUMMARY:Instalação Contemporaneidade Plástica\, Ode ao Descartado
DESCRIPTION:Ilhas de plástico boiando nos oceanos. Quilômetros quadrados de plástico entupindo as veias da vida\, plástico\, prático\, prática descartável. Microplásticos dentro e fora de nós\, no ar\, na água\, na terra\, por toda parte. \nPlástico\, material simbólico dos tempos de agora\, tempos de trabalho e consumo\, mola da macro economia global.Plástico vem de petróleo\, matriz energética principal\, motriz das guerras pelo poder e tantos outros desequilíbrios._Contemporaneidade Plástica\, Ode ao Descartado_ é uma instalação artística que estabelece o plástico como musa\, explorando múltiplos aspectos deste material: o som\, as cores e formas\, o movimento. Plástico\, matéria moldável em sua plasticidade. A dimensão poética daquilo que é displicentemente descartado. \nConcebida por Mateus Dantas\, _Contemporaneidade Plástica\, Ode ao Descartado_ é uma proposta em processo criativo contínuo\, com intervenções acontecendo ao longo do período de exposição aberta ao público(1 de abril a 14 de junho)\, e ocupará espaços do Teatro Gamboa.. \nVisitação de segunda a sexta\, das 14h às 19h; sábados e domingos\, das 13h às 17h. \nAdquira ingressos para a abertura do dia 01/04 que terá a performance Coletarte:  \n\nCLIQUE AQUI PARA PARTICIPAR PRESENCIALMENTE\nCLIQUE AQUI PARA ASSISTIR ONLINE AO VIVO
URL:https://teatrogamboa.com.br/evento/exposicao-o-que-ha-no-abismo/
LOCATION:Teatro Gamboa\, Rua gamboa de Cima\, 3\, Salvador\, BA\, 40060-008\, Brasil
CATEGORIES:Agenda da semana
ATTACH;FMTTYPE=image/jpeg:https://teatrogamboa.com.br/wp-content/uploads/2026/03/MateusBUC-Mateus-Dantas.jpg
END:VEVENT
BEGIN:VEVENT
DTSTART;TZID=America/Bahia:20260418T110000
DTEND;TZID=America/Bahia:20260418T120000
DTSTAMP:20260425T092327
CREATED:20260406T124257Z
LAST-MODIFIED:20260406T131326Z
UID:10000599-1776510000-1776513600@teatrogamboa.com.br
SUMMARY:O Voo da Xica - Festival de Artes e (Re)existências Fica Gamboa
DESCRIPTION:Quando: 18/04 – 11h \nParabéns Xica\, nesta data querida: 10 anos\, muitas histórias e inúmeros VOOS! \nDeixa a gente te contar essa história\, afinal 10 anos não são 10 dias\, nem 10 minutos! Em outubro de 2015 Lucianna Ávila e Marcos Bezerra fizeram sua primeira apresentação levando a narrativa sensível da alegre passarinha sonhadora e seu ritmo poético-musical para a Fliquinha\, em Cachoeira. Após diversas apresentações\, grande circulação nacional e internacional\, além da segunda edição do livro publicada\, neste ano de 2025 “O Voo da Xica” completa 10 anos! \nE\, para comemorar em grande estilo\, estaremos no Teatro Gamboa realizando um espetáculo-festa para lá de especial com participações incríveis\, uma banda maravilhosa e\, claro\, contando com sua presença que é nossa (o) convidada (o) de honra!! \nVem VOAR com a gente! \nO voo da Xica tem literatura\, contação de história\, música e movimento\, entregando um show de artes integradas e muita cultura para as infâncias. O projeto foi concebido pela escritora\, contadora de histórias e autora do livro Lucianna Ávila que assina direção geral e artística\, texto e roteiro\, produção\, além de realizar a narração oral. A direção geral\, musical\, os arranjos e produção são do músico e professor Marcos Bezerra que leva para o palco suas composições em ritmos afro-brasileiros\, sua voz e o som inconfundível do seu violão. \nFICHA TÉCNICAFlauta- Nilton Azevedo;Tuba- Jambere;Percussão- Cassiano Alexandrino;Sanfona- Peu Costa; Produção técnica- João Fernando (Pingo);Violão e voz- Marcos Bezerra;Narração- Lucianna Ávila \nPARTICIPAÇÕES ESPECIAISMaira Lins\, Lia Gondim e Aila Menezes \nOs ingressos para as sessões podem ser adquiridos diretamente na bilheteria do teatro\, de quarta a domingo\, a partir das 15h\, ou pelos canais e modalidades abaixo:\n\n\n COMPRE AQUI PARA ASSISTIR PRESENCIALMENTE\n\n ASSISTA ONLINE
URL:https://teatrogamboa.com.br/evento/ovoodaxica/
LOCATION:Teatro Gamboa\, Rua gamboa de Cima\, 3\, Salvador\, BA\, 40060-008\, Brasil
CATEGORIES:Agenda da semana,Assista Online
ATTACH;FMTTYPE=image/jpeg:https://teatrogamboa.com.br/wp-content/uploads/2026/04/LuciannaeMarcos_OvoodaXica_MauricioLidio-1-1.jpg
END:VEVENT
BEGIN:VEVENT
DTSTART;TZID=America/Bahia:20260418T170000
DTEND;TZID=America/Bahia:20260418T180000
DTSTAMP:20260425T092327
CREATED:20260410T122600Z
LAST-MODIFIED:20260410T122652Z
UID:10000604-1776531600-1776535200@teatrogamboa.com.br
SUMMARY:Mou Brasil: Música e Consciência - Festival de Artes e (Re)existências Fica Gamboa
DESCRIPTION:Quando: 18/04 – 17h \nMou Brasil\, Guitarrista e compositor\, natural de Salvador reconhecido no Brasil pela sua trajetória na música instrumental.Trabalhou com Gal Costa\, Caetano Veloso\, Raul de Souza \, Dominguinhos\, Virgínia Rodrigues\, Daniela Mercury\, Luís Caldas\, Letieres Leite\, Nelson Veras\, Marcelo Galter\, Ldson Galter. Premiado pela composição Saudade\, professor pelo Núcleo de música moderna\, ao lado de Ubiratan Marques. Trabalhou na Europa \, Estados Unidos\, Ásia. \nShow : Música e Consciência Rowney Scott: Saxofone Bruno Aranha: TcladosVitor Brasil: BateriaLdson Galter : Contrabaixo.Mou Brasil: Guitarra / composição \nFaixa Etária: 11 anos \nO propósito é contribuir para que o Gamboa permaneça como um lugar de grande importância cultural de Salvador. \nOs ingressos para as sessões podem ser adquiridos diretamente na bilheteria do teatro\, de quarta a domingo\, a partir das 15h\, ou pelos canais e modalidades abaixo:\n\n\n COMPRE AQUI PARA ASSISTIR PRESENCIALMENTE\n\n ASSISTA ONLINE
URL:https://teatrogamboa.com.br/evento/moubrasil/
LOCATION:Teatro Gamboa\, Rua gamboa de Cima\, 3\, Salvador\, BA\, 40060-008\, Brasil
CATEGORIES:Agenda da semana,Assista Online
ATTACH;FMTTYPE=image/jpeg:https://teatrogamboa.com.br/wp-content/uploads/2026/04/WhatsApp-Image-2026-03-31-at-16.32.13.jpeg
END:VEVENT
END:VCALENDAR