BEGIN:VCALENDAR
VERSION:2.0
PRODID:-//Teatro Gamboa - ECPv6.2.8.2//NONSGML v1.0//EN
CALSCALE:GREGORIAN
METHOD:PUBLISH
X-WR-CALNAME:Teatro Gamboa
X-ORIGINAL-URL:https://teatrogamboa.com.br
X-WR-CALDESC:Eventos para Teatro Gamboa
REFRESH-INTERVAL;VALUE=DURATION:PT1H
X-Robots-Tag:noindex
X-PUBLISHED-TTL:PT1H
BEGIN:VTIMEZONE
TZID:America/Bahia
BEGIN:STANDARD
TZOFFSETFROM:-0300
TZOFFSETTO:-0300
TZNAME:-03
DTSTART:20260101T000000
END:STANDARD
END:VTIMEZONE
BEGIN:VEVENT
DTSTART;TZID=America/Bahia:20260401T190000
DTEND;TZID=America/Bahia:20260614T200000
DTSTAMP:20260425T213620
CREATED:20260330T123633Z
LAST-MODIFIED:20260401T185710Z
UID:10000592-1775070000-1781467200@teatrogamboa.com.br
SUMMARY:Instalação Contemporaneidade Plástica\, Ode ao Descartado
DESCRIPTION:Ilhas de plástico boiando nos oceanos. Quilômetros quadrados de plástico entupindo as veias da vida\, plástico\, prático\, prática descartável. Microplásticos dentro e fora de nós\, no ar\, na água\, na terra\, por toda parte. \nPlástico\, material simbólico dos tempos de agora\, tempos de trabalho e consumo\, mola da macro economia global.Plástico vem de petróleo\, matriz energética principal\, motriz das guerras pelo poder e tantos outros desequilíbrios._Contemporaneidade Plástica\, Ode ao Descartado_ é uma instalação artística que estabelece o plástico como musa\, explorando múltiplos aspectos deste material: o som\, as cores e formas\, o movimento. Plástico\, matéria moldável em sua plasticidade. A dimensão poética daquilo que é displicentemente descartado. \nConcebida por Mateus Dantas\, _Contemporaneidade Plástica\, Ode ao Descartado_ é uma proposta em processo criativo contínuo\, com intervenções acontecendo ao longo do período de exposição aberta ao público(1 de abril a 14 de junho)\, e ocupará espaços do Teatro Gamboa.. \nVisitação de segunda a sexta\, das 14h às 19h; sábados e domingos\, das 13h às 17h. \nAdquira ingressos para a abertura do dia 01/04 que terá a performance Coletarte:  \n\nCLIQUE AQUI PARA PARTICIPAR PRESENCIALMENTE\nCLIQUE AQUI PARA ASSISTIR ONLINE AO VIVO
URL:https://teatrogamboa.com.br/evento/exposicao-o-que-ha-no-abismo/
LOCATION:Teatro Gamboa\, Rua gamboa de Cima\, 3\, Salvador\, BA\, 40060-008\, Brasil
CATEGORIES:Agenda da semana
ATTACH;FMTTYPE=image/jpeg:https://teatrogamboa.com.br/wp-content/uploads/2026/03/MateusBUC-Mateus-Dantas.jpg
END:VEVENT
BEGIN:VEVENT
DTSTART;TZID=America/Bahia:20260411T170000
DTEND;TZID=America/Bahia:20260411T180000
DTSTAMP:20260425T213620
CREATED:20260330T125915Z
LAST-MODIFIED:20260401T190607Z
UID:10000595-1775926800-1775930400@teatrogamboa.com.br
SUMMARY:A moça do sonho: Fernanda Behrens canta Chico Buarque
DESCRIPTION:Quando: 11/04 – 17h \nO show “A moça do sonho: Fernanda Behrens canta Chico Buarque”\, com sua atmosfera onírica\, propõe uma homenagem ao cantor e compositor Chico Buarque\, uma das principais referências musicais de Fernanda Behrens\, que inicia sua carreira musical. Desde o seu primeiro show “Ensaios para dançar com a vida”\, Fernanda reúne em seu repertório e concepção artística\, elementos do sonho\, da infância\, do amor\, do fazer artístico e do viver. \nAssumindo a voz principal e a direção artística\, o show conta com a preparação vocal de Vanda Barreto Otero\, Raphael Mascarenhas no piano\, Vitor Povoas no violão e Yago Luis na percussão. Fernanda ainda convida para adentrar seu sonho no dia 11 de abril\, às 17h\, os artistas Clarice Ravena e Cícero Locijá. Os ingressos custam R$50\,00 (inteira) e R$25\,00 (meia-entrada)\, e ainda conta com transmissão ao vivo\, cujo a entrada pode ser adquirida pelo valor de R$15\,00. \nO repertório conta com “Sonho impossível”\, “Beatriz”\, “A moça do sonho”\, “João e Maria”\, “Sem fantasia”\, “Olhos nos olhos”\, “O meu amor”\, e muitas outras canções de Chico Buarque. Além disso haverá algumas composições autorais dos artistas envolvidos no show. \nA classificação é livre. \nOs ingressos para as sessões podem ser adquiridos diretamente na bilheteria do teatro\, de quarta a domingo\, a partir das 15h\, ou pelos canais e modalidades abaixo:\n\n\n COMPRE AQUI PARA ASSISTIR PRESENCIALMENTE\n\n ASSISTA ONLINE
URL:https://teatrogamboa.com.br/evento/amocadosonho/
LOCATION:Teatro Gamboa\, Rua gamboa de Cima\, 3\, Salvador\, BA\, 40060-008\, Brasil
CATEGORIES:Agenda da semana,Assista Online
ATTACH;FMTTYPE=image/jpeg:https://teatrogamboa.com.br/wp-content/uploads/2026/03/moca.jpg
END:VEVENT
END:VCALENDAR