BEGIN:VCALENDAR
VERSION:2.0
PRODID:-//Teatro Gamboa - ECPv6.2.8.2//NONSGML v1.0//EN
CALSCALE:GREGORIAN
METHOD:PUBLISH
X-WR-CALNAME:Teatro Gamboa
X-ORIGINAL-URL:https://teatrogamboa.com.br
X-WR-CALDESC:Eventos para Teatro Gamboa
REFRESH-INTERVAL;VALUE=DURATION:PT1H
X-Robots-Tag:noindex
X-PUBLISHED-TTL:PT1H
BEGIN:VTIMEZONE
TZID:America/Bahia
BEGIN:STANDARD
TZOFFSETFROM:-0300
TZOFFSETTO:-0300
TZNAME:-03
DTSTART:20250101T000000
END:STANDARD
END:VTIMEZONE
BEGIN:VEVENT
DTSTART;TZID=America/Bahia:20250709T180000
DTEND;TZID=America/Bahia:20250831T190000
DTSTAMP:20260425T180222
CREATED:20250625T014829Z
LAST-MODIFIED:20250819T192221Z
UID:10000410-1752084000-1756666800@teatrogamboa.com.br
SUMMARY:Exposição Arquivo J.F. -  Uma "exposição-homenagem" ao artista Jayme Fygura
DESCRIPTION:GRATUITO! \nArquivo J.F. é uma “exposição-homenagem” ao artista multimídia Jayme Fygura com sua produção ao longo de mais de três décadas na cidade de Salvador. A partir da pesquisa realizada no mestrado em artes visuais da Escola de Belas Artes da UFBA pelo pesquisador José Mário Peixoto (ZMário)\, em 2003\, surgiu o primeiro artigo acadêmico/científico que analisa a produção de Jayme Fygura como representante da performance arte soteropolitana. São textos\, capítulos de livros\, cartazes\, fotografias\, entrevistas que tomarão as paredes da Galeria Jayme Fygura do Teatro Gamboa\, assim como\, obras de 25 artistas convidados numa afetuosa homenagem ao artista que nos deixou em novembro do ano de 2023. \nFICHA TÉCNICARealização: Teatro GamboaCoordenação\, curadoria afetiva e Carta a Jayme Fygura: ZMárioTexto de apresentação da obra de Jayme Fygura e bate-papo: Prof. Dr. Luiz Freire. Artistas convidados: Rebouças\, DIMAK\, Marcelus Freitas\, Alex Oliveira\, Augusto Wences\, Arthur Scovino\, Devarnier Hembandoom\, LVC Vandalismo\, Arruamentos Delirantes\, Taliboy\, Denise Santos\, Ciane Fernandes\, Tuti Minervino\, Fernando Bernardes\, Diega Pereira\, Rose Boaretto\, Fábio Haendel\, SamiOldShit\, Laís Guedes\, Rodrigo Marques\, Francilins Castilho\, Morgana Poiesis\, Ivan Bispo\, Ricarda Alvarenga e ZMárioFotos e assistente de montagem: Caique Evangelista.Apoios: AteliZê e Art & Lar \nClassificação: Livre \nVisitação de segunda a sexta\, das 14h às 19h; sábados e domingos\, das 13h às 17h.
URL:https://teatrogamboa.com.br/evento/exposicao-arquivo-j-f-uma-exposicao-homenagem-ao-artista-jayme-fygura/
LOCATION:Teatro Gamboa\, Rua gamboa de Cima\, 3\, Salvador\, BA\, 40060-008\, Brasil
CATEGORIES:Agenda da semana
ATTACH;FMTTYPE=image/jpeg:https://teatrogamboa.com.br/wp-content/uploads/2025/06/Jayme-Fygurasite.jpg
END:VEVENT
BEGIN:VEVENT
DTSTART;TZID=America/Bahia:20250713T170000
DTEND;TZID=America/Bahia:20250713T183000
DTSTAMP:20260425T180222
CREATED:20250707T124248Z
LAST-MODIFIED:20250712T002253Z
UID:10000418-1752426000-1752431400@teatrogamboa.com.br
SUMMARY:Godó\, o Mensageiro do Vale
DESCRIPTION:Quando: 13\, 20 e 27/07 – 17h \n“…Em uma manhã ensolarada\, brincando com os amigos Biziu e Zenáide no quintal de casa\, Godó vê uma revoada de vagalumes na beira do riacho. Consegue capturar um e\, com carinho\, leva o presente para sua mãe. Para sua surpresa\, esse vagalume mudaria suas vidas para sempre…” \nInspirado em fatos reais ocorridos no Vale do Pati\, entre 1937 e 1985\, na Chapada Diamantina (Bahia)\, o espetáculo narra a história de uma das famílias que ali viviam — entre as duas mil que habitavam a região antes de serem expulsas por um decreto federal que proibiu o cultivo do café\, transformando o local em uma reserva ecológica. Hoje\, restam apenas oito famílias na região. \nA peça foca na trajetória de Dona Dalzija e seu filho Jáiso\, apelidado carinhosamente de Godó por sua paixão pela comida típica da região — o “godó”\, um purê de banana verde. Godó\, um menino de nove anos\, filho único\, tinha como companheira inseparável a galinha Zenáide e um amigo imaginário chamado Biziu. \n“Godó\, o Mensageiro do Vale” é um monólogo criado a partir de uma extensa pesquisa realizada entre 2000 e 2014 pelo ator e produtor Caco Monteiro\, que mergulhou nas histórias do garimpo de diamantes na Chapada Diamantina. No palco\, Caco dá vida a Godó aos 90 anos\, que revisita sua infância por meio de flashbacks. Em cena\, o ator interpreta não apenas o protagonista\, mas também sua mãe\, seu pai\, a galinha Zenáide e o próprio Godó quando criança. \nCom 64 anos de idade e 45 de carreira\, Caco Monteiro é um artista premiado\, com destaque para os prêmios “Martim Gonçalves” de Melhor Ator (1983) e “Bahia em Cena” (1989). No cinema\, participou de filmes como Dawson\, Isla 10 (2008)\, Faroeste Caboclo (2011)\, Irmã Dulce (2014)\, Divaldo\, o mensageiro da paz (2019) e A Matriarca (2023). Na TV\, atuou em Laços de Família (2000) e outras produções da Rede Globo. Em 2016\, foi assistente de direção de Deborah Colker na cerimônia de abertura dos Jogos Olímpicos do Rio. \nA direção do espetáculo é do consagrado diretor inglês John Mowat\, conhecido por sua atuação no Teatro Físico Visual e pelas montagens dos espetáculos Édipo\, Drácula e O Grande Criador\, entre outros\, com o grupo português Chapitô. \nFicha técnicaTexto e atuação: Caco MonteiroColaboração de texto: Maurício AssunçãoDireção: John MowatCo-direção: Maurício AssunçãoIluminação: Jorginho de CarvalhoTrilha sonora original: Leco BrasileiroPreparação corporal e assistência de direção: Thaís BandeiraFigurino: Maurício Martins (Acervo Boca de Cena)Cenografia: Daniela SteeleCenotécnico: Gringo FreitasOperação de luz e som: Antonio “Kika”Fotos: Cláudio Zakka e Maurício RequiãoProdução: Seu Kirim Produções Artísticas Ltda \nOs ingressos para as sessões presenciais podem ser adquiridos diretamente na bilheteria do teatro\, de quarta a domingo\, a partir das 15h\, ou pelo WhatsApp do Teatro (apenas via pix) no número 71 98631-3925. \n\nCOMPRE AQUI PARA ASSIISTIR ONLINE
URL:https://teatrogamboa.com.br/evento/godo-o-mensageiro-do-vale/2025-07-13/
LOCATION:Teatro Gamboa\, Rua gamboa de Cima\, 3\, Salvador\, BA\, 40060-008\, Brasil
CATEGORIES:Agenda da semana,Assista Online
ATTACH;FMTTYPE=image/jpeg:https://teatrogamboa.com.br/wp-content/uploads/2025/07/Godo-02-1.jpeg
END:VEVENT
END:VCALENDAR