BEGIN:VCALENDAR
VERSION:2.0
PRODID:-//Teatro Gamboa - ECPv6.2.8.2//NONSGML v1.0//EN
CALSCALE:GREGORIAN
METHOD:PUBLISH
X-ORIGINAL-URL:https://teatrogamboa.com.br
X-WR-CALDESC:Eventos para Teatro Gamboa
REFRESH-INTERVAL;VALUE=DURATION:PT1H
X-Robots-Tag:noindex
X-PUBLISHED-TTL:PT1H
BEGIN:VTIMEZONE
TZID:America/Bahia
BEGIN:STANDARD
TZOFFSETFROM:-0300
TZOFFSETTO:-0300
TZNAME:-03
DTSTART:20250101T000000
END:STANDARD
END:VTIMEZONE
BEGIN:VEVENT
DTSTART;TZID=America/Bahia:20250612T190000
DTEND;TZID=America/Bahia:20250612T203000
DTSTAMP:20260425T080556
CREATED:20250602T201440Z
LAST-MODIFIED:20250602T201440Z
UID:10000408-1749754800-1749760200@teatrogamboa.com.br
SUMMARY:Love Baiano e as Românticas do Axé e Mais
DESCRIPTION:Quando: 12/06 – 19h \nNo dia 12 de junho\, o cantor e compositor Lucas Gerbazi leva ao Teatro Gamboa o show “Love Baiano”\, uma celebração das canções românticas compostas ou interpretadas por artistas baianos\, com destaque para os grandes sucessos apaixonados que marcaram o Axé Music nas décadas de 1990 e 2000. \nCom um formato intimista — voz\, violão e percussão — o espetáculo contará com as participações do poeta Vitor Andrade e do cantor Teu Soares\, que também integra a banda\, junto com o percussionista Ricardo Doria. \nAlém de interpretar clássicos que embalaram os corações de gerações inteiras\, Gerbazi também apresentará composições autorais\, mantendo viva a conexão entre o afeto\, a baianidade e a música popular brasileira. \nEm meio à poesia melódica de músicas eternizadas por nomes como Carlinhos Brown\, Chiclete com Banana e Olodum\, “Love Baiano” propõe um reencontro afetivo com a memória coletiva dos verões baianos e com o lado mais sentimental da música da Bahia. \n\nCOMPRE AQUI PARA ASSISTIR PRESENCIALMENTE\nCOMPRE AQUI PARA ASSISTIR ONLINE
URL:https://teatrogamboa.com.br/evento/lovebaiano/
LOCATION:Teatro Gamboa\, Rua gamboa de Cima\, 3\, Salvador\, BA\, 40060-008\, Brasil
CATEGORIES:Agenda da semana,Assista Online
ATTACH;FMTTYPE=image/jpeg:https://teatrogamboa.com.br/wp-content/uploads/2025/06/LUCAS-GERBAZI-LOVE-BAIANO-MAIEH-SOUSA.jpg
END:VEVENT
END:VCALENDAR