BEGIN:VCALENDAR
VERSION:2.0
PRODID:-//Teatro Gamboa - ECPv6.2.8.2//NONSGML v1.0//EN
CALSCALE:GREGORIAN
METHOD:PUBLISH
X-WR-CALNAME:Teatro Gamboa
X-ORIGINAL-URL:https://teatrogamboa.com.br
X-WR-CALDESC:Eventos para Teatro Gamboa
REFRESH-INTERVAL;VALUE=DURATION:PT1H
X-Robots-Tag:noindex
X-PUBLISHED-TTL:PT1H
BEGIN:VTIMEZONE
TZID:America/Bahia
BEGIN:STANDARD
TZOFFSETFROM:-0300
TZOFFSETTO:-0300
TZNAME:-03
DTSTART:20250101T000000
END:STANDARD
END:VTIMEZONE
BEGIN:VEVENT
DTSTART;TZID=America/Bahia:20250611T190000
DTEND;TZID=America/Bahia:20250611T203000
DTSTAMP:20260425T081435
CREATED:20250602T200325Z
LAST-MODIFIED:20250602T200335Z
UID:10000407-1749668400-1749673800@teatrogamboa.com.br
SUMMARY:Yasmin Ferrari em O Sonho
DESCRIPTION:Quando: 11/06 – 19h \n“Yasmin Ferrari em O SONHO” é um espetáculo que traz um espectro do álbum recém lançado por Yasmin Ferrari; o “VIDA MUTANTE EFÊMERA” . Este projeto conta em sua lírica com reflexões sobre a subjetividade do ser\, assim como a efemeridade da vida\, e o quanto está em constante transformação. Em sua musicalidade\, passeia pelo jazz\, rock psicodélico\, samba\, trazendo sua ideologia de liberdade e experimentação ao seu trabalho. Neste espetáculo\, traz-se a perspectiva do sonho; esse algo que no agora almejamos conquistar no futuro\, e que se entrelaça com nossa perspectiva de ser. Trazendo a interdisciplinaridade das artes\, em uma tentativa de instigar\, questionar\, expressar e adorar\, falar sobre o sonho\, e também sobre o sistema que o inibe; em uma performace musical-teatral-poetical\, unir a força das artes e falar sobre o sonho de mudar o mundo {e/ou a perspectiva de}. \n\nCOMPRE AQUI PARA ASSISTIR PRESENCIALMENTE\nCOMPRE AQUI PARA ASSISTIR ONLINE
URL:https://teatrogamboa.com.br/evento/osonho/
LOCATION:Teatro Gamboa\, Rua gamboa de Cima\, 3\, Salvador\, BA\, 40060-008\, Brasil
CATEGORIES:Agenda da semana,Assista Online
ATTACH;FMTTYPE=image/jpeg:https://teatrogamboa.com.br/wp-content/uploads/2025/06/Yasmin-Ferrari-O-SONHO-Yasmin-Valverde3.jpg
END:VEVENT
END:VCALENDAR