BEGIN:VCALENDAR
VERSION:2.0
PRODID:-//Teatro Gamboa - ECPv6.2.8.2//NONSGML v1.0//EN
CALSCALE:GREGORIAN
METHOD:PUBLISH
X-WR-CALNAME:Teatro Gamboa
X-ORIGINAL-URL:https://teatrogamboa.com.br
X-WR-CALDESC:Eventos para Teatro Gamboa
REFRESH-INTERVAL;VALUE=DURATION:PT1H
X-Robots-Tag:noindex
X-PUBLISHED-TTL:PT1H
BEGIN:VTIMEZONE
TZID:America/Bahia
BEGIN:STANDARD
TZOFFSETFROM:-0300
TZOFFSETTO:-0300
TZNAME:-03
DTSTART:20250101T000000
END:STANDARD
END:VTIMEZONE
BEGIN:VEVENT
DTSTART;TZID=America/Bahia:20250604T190000
DTEND;TZID=America/Bahia:20250604T203000
DTSTAMP:20260425T081354
CREATED:20250602T192640Z
LAST-MODIFIED:20250602T192640Z
UID:10000398-1749063600-1749069000@teatrogamboa.com.br
SUMMARY:Na Base do Improviso Só com Elas
DESCRIPTION:Quando: 04/06 – 19h \nCom uma mestra de cerimônias e 4 mulheres no palco\, as atrizes – comediantes da Cia Bocó\, improvisam cenas e histórias hilárias inspiradas nos temas que a plateia sugere. \nEnquanto encenam\, elas também precisam cumprir desafios de jogos teatrais divertidíssimos\, que tornam tudo ainda mais engraçado. \nFicha TécnicaElenco: Catiane Santos\, Illa Patrícia\, Cleuza Batista\, Tayná Gomes Mestra de Cerimônias: Rita RochaDireção Teatral: Rubi \nOs ingressos podem ser adquiridos diretamente na bilheteria do teatro\, de quarta a domingo\, a partir das 15h\, e também nos canais e modalidades abaixo. \n\n\nCOMPRE AQUI PARA ASSISTIR PRESENCIALMENTE\nCOMPRE AQUI PARA ASSISTIR ONLINE
URL:https://teatrogamboa.com.br/evento/na-base-do-improviso-so-com-elas/
LOCATION:Teatro Gamboa\, Rua gamboa de Cima\, 3\, Salvador\, BA\, 40060-008\, Brasil
CATEGORIES:Agenda da semana,Assista Online
ATTACH;FMTTYPE=image/png:https://teatrogamboa.com.br/wp-content/uploads/2025/06/1000185792.png
END:VEVENT
END:VCALENDAR