BEGIN:VCALENDAR
VERSION:2.0
PRODID:-//Teatro Gamboa - ECPv6.2.8.2//NONSGML v1.0//EN
CALSCALE:GREGORIAN
METHOD:PUBLISH
X-ORIGINAL-URL:https://teatrogamboa.com.br
X-WR-CALDESC:Eventos para Teatro Gamboa
REFRESH-INTERVAL;VALUE=DURATION:PT1H
X-Robots-Tag:noindex
X-PUBLISHED-TTL:PT1H
BEGIN:VTIMEZONE
TZID:America/Bahia
BEGIN:STANDARD
TZOFFSETFROM:-0300
TZOFFSETTO:-0300
TZNAME:-03
DTSTART:20250101T000000
END:STANDARD
END:VTIMEZONE
BEGIN:VEVENT
DTSTART;TZID=America/Bahia:20250402T190000
DTEND;TZID=America/Bahia:20250531T190000
DTSTAMP:20260424T212344
CREATED:20250401T191121Z
LAST-MODIFIED:20250521T134548Z
UID:10000347-1743620400-1748718000@teatrogamboa.com.br
SUMMARY:Exposição Nordeste Meu Lugar
DESCRIPTION:Na quarta-feira (02)\, às 19h\, será aberta a exposição “Nordeste meu lugar”\, do artista plástico Tarcísio Lima\, apresentando a riqueza\, a cultura e a identidade da região. Com uma trajetória marcada pela sensibilidade e expressividade\, Tarcísio apresenta uma seleção de obras em acrílica e aquarela\, técnicas que ressaltam sua visão única sobre a essência do Nordeste. A exposição reúne composições vibrantes e detalhadas\, capturando as cores\, os cenários e as histórias\, refletindo\, a cada pincelada\, a força do sertão\, o calor humano e a tradição que atravessa gerações\, transformando telas em narrativas visuais que emocionam e inspiram. O evento contará com um show com canções da MPB\, em formato voz e violão\, com os artistas Izaki Lima e João Marcos. \nVisitação de quarta a sexta\, das 14h às 19h; sábados e domingos\, das 13h às 17h.
URL:https://teatrogamboa.com.br/evento/nordestemeulugar/
LOCATION:Teatro Gamboa\, Rua gamboa de Cima\, 3\, Salvador\, BA\, 40060-008\, Brasil
CATEGORIES:Agenda da semana
ATTACH;FMTTYPE=image/jpeg:https://teatrogamboa.com.br/wp-content/uploads/2025/04/explosite.jpg
END:VEVENT
BEGIN:VEVENT
DTSTART;TZID=America/Bahia:20250528T190000
DTEND;TZID=America/Bahia:20250528T203000
DTSTAMP:20260424T212344
CREATED:20250515T185953Z
LAST-MODIFIED:20250524T000245Z
UID:10000392-1748458800-1748464200@teatrogamboa.com.br
SUMMARY:Uma Raiz Compartilhada
DESCRIPTION:Quando:28/05 – 19h \nIngressos para sessão presencial ESGOTADOS! \nDo Cone Sul para o coração de Salvador: no dia 28 de maio\, o Teatro Gamboa recebe o pocket show e roda de conversa “Uma Raiz Compartilhada”\, com os artistas Duda Diamba e Pali Montero — dois nomes que entrelaçam as sonoridades da Bahia e da Argentina em uma vivência potente de intercâmbio cultural. \nA ação integra a contrapartida pública do projeto apoiado pelo Edital de Mobilidade Cultural do Governo do Estado da Bahia\, que levou os artistas para se apresentar no Festival Cone Sul\, realizado na La Casa Claypole\, centro cultural de base comunitária localizado na periferia de Buenos Aires. \nNo palco do Gamboa\, Duda e Pali apresentam ao público um resumo musical da turnê\, exibem trechos documentais da viagem e compartilham os bastidores dessa experiência transformadora: os encontros com artistas locais\, os desafios da circulação internacional\, as fusões musicais vividas no palco e o papel da cultura na construção de pontes entre territórios. \nMais que um show\, a noite será um reencontro com as raízes e uma celebração das conexões que a arte é capaz de gerar. \n\nCLIQUE AQUI PARA RECEBER O LINK E ASSISTIR ONLINE\n\n 
URL:https://teatrogamboa.com.br/evento/umaeizcompartilhada/
LOCATION:Teatro Gamboa\, Rua gamboa de Cima\, 3\, Salvador\, BA\, 40060-008\, Brasil
CATEGORIES:Agenda da semana,Assista Online
ATTACH;FMTTYPE=image/jpeg:https://teatrogamboa.com.br/wp-content/uploads/2025/05/claypole2.jpg
END:VEVENT
END:VCALENDAR